BEGIN:VCALENDAR
VERSION:2.0
PRODID:-//Stadthalle-Sigmaringen - ECPv6.15.20//NONSGML v1.0//EN
CALSCALE:GREGORIAN
METHOD:PUBLISH
X-ORIGINAL-URL:https://www.stadthallesigmaringen.de
X-WR-CALDESC:Veranstaltungen für Stadthalle-Sigmaringen
REFRESH-INTERVAL;VALUE=DURATION:PT1H
X-Robots-Tag:noindex
X-PUBLISHED-TTL:PT1H
BEGIN:VTIMEZONE
TZID:Europe/Berlin
BEGIN:DAYLIGHT
TZOFFSETFROM:+0100
TZOFFSETTO:+0200
TZNAME:CEST
DTSTART:20250330T010000
END:DAYLIGHT
BEGIN:STANDARD
TZOFFSETFROM:+0200
TZOFFSETTO:+0100
TZNAME:CET
DTSTART:20251026T010000
END:STANDARD
BEGIN:DAYLIGHT
TZOFFSETFROM:+0100
TZOFFSETTO:+0200
TZNAME:CEST
DTSTART:20260329T010000
END:DAYLIGHT
BEGIN:STANDARD
TZOFFSETFROM:+0200
TZOFFSETTO:+0100
TZNAME:CET
DTSTART:20261025T010000
END:STANDARD
BEGIN:DAYLIGHT
TZOFFSETFROM:+0100
TZOFFSETTO:+0200
TZNAME:CEST
DTSTART:20270328T010000
END:DAYLIGHT
BEGIN:STANDARD
TZOFFSETFROM:+0200
TZOFFSETTO:+0100
TZNAME:CET
DTSTART:20271031T010000
END:STANDARD
END:VTIMEZONE
BEGIN:VEVENT
DTSTART;TZID=Europe/Berlin:20261102T170000
DTEND;TZID=Europe/Berlin:20261102T200000
DTSTAMP:20260420T163107
CREATED:20250916T094751Z
LAST-MODIFIED:20250916T094751Z
UID:10000134-1793638800-1793649600@www.stadthallesigmaringen.de
SUMMARY:Geschlossene Veranstaltung
DESCRIPTION:Geschlossene Veranstaltung\, leider kein öffentlicher Einlass möglich.
URL:https://www.stadthallesigmaringen.de/veranstaltung/geschlossene-veranstaltung-56/
CATEGORIES:geschlossene Veranstaltungen
ATTACH;FMTTYPE=image/jpeg:https://www.stadthallesigmaringen.de/wp-content/uploads/2024/11/00-geschlossene-veranstaltung.jpg
END:VEVENT
BEGIN:VEVENT
DTSTART;VALUE=DATE:20261110
DTEND;VALUE=DATE:20261111
DTSTAMP:20260420T163107
CREATED:20251127T095859Z
LAST-MODIFIED:20251127T095859Z
UID:10000169-1794268800-1794355199@www.stadthallesigmaringen.de
SUMMARY:Geschlossene Veranstaltung
DESCRIPTION:Geschlossene Veranstaltung\, leider kein öffentlicher Einlass möglich.
URL:https://www.stadthallesigmaringen.de/veranstaltung/geschlossene-veranstaltung-25/
CATEGORIES:geschlossene Veranstaltungen
ATTACH;FMTTYPE=image/jpeg:https://www.stadthallesigmaringen.de/wp-content/uploads/2024/11/00-geschlossene-veranstaltung.jpg
END:VEVENT
BEGIN:VEVENT
DTSTART;TZID=Europe/Berlin:20261114T200000
DTEND;TZID=Europe/Berlin:20261114T223000
DTSTAMP:20260420T163107
CREATED:20250224T141306Z
LAST-MODIFIED:20250912T141400Z
UID:10000076-1794686400-1794695400@www.stadthallesigmaringen.de
SUMMARY:Sebastian Reich & Amanda  „Purer Zufall“
DESCRIPTION:Jetzt Tickets bestellen!\n\n„Purer Zufall“ – die neue Comedyshow\, die das Glück verdoppelt! Nilpferd Amanda & Co sind bereit für ein neues Showerlebnis voller Spaß und unvorhersehbarer Überraschungen!\nIm bereits fünften Tour-Programm von Bauchredner Sebastian Reich geht es rund: Es wird musikalisch\, zauberhaft\, emotional\, romantisch\, interaktiv und vor allen Dingen lustig! Während Amanda gerne mal improvisiert\, überlässt Sebastian nichts dem Zufall\, so ist zumindest sein Plan. Wäre da nicht Amanda\, die sich ganz besonders auf ein Wiedersehen mit alten Bekannten freut\, wie z. B. den fränkischen Maulwurf Schorsch. Er und weitere Gäste sorgen diesmal für einen fesselnden Mix und eine Reise in die verrückte Welt der Spontaneität.\nKeine Show wird der anderen gleich sein\, dafür wird Amanda sorgen! Denn hierbei hat sie vor allen Dingen eine Sache im Blick: Momente\, welche sich gerade einfach so aus dem Nichts ergeben\, aus denen dann durchgeknallte Geschichten entstehen.\nNeue Ideen treffen auf Klassiker aus 20 Jahren Bühnenleben. Spontane Improvisationen vermischen sich mit interaktiven Momenten. Eine Unberechenbarkeit\, die den besonderen Reiz der Show ausmacht!\n„Mit der neuen Tour „Purer Zufall“ spielen wir sicher die abwechslungsreichste Show\, mit der wir je unterwegs waren. Besonders wichtig ist mir dabei\, dass wir wieder alle Altersklassen ansprechen. So freuen wir uns auf ein bunt gemischtes Publikum\, vom Single bis zur Familie\, vom Kind bis zum Rentner\, bis hin zu Freunden & Kollegen\, die gemeinsam einfach einen lustigen Abend verbringen wollen“\, so Sebastian Reich.\nEin Feuerwerk an Komik und Humor mit einem Mix aus skurrilen Geschichten\, interaktiven Einlagen und der Magie des Zufalls. Dass die Lachmuskeln dabei strapaziert werden\, ist alles andere als Zufall!\nTickets gibt es ab sofort im Vorverkauf an den bekannten Vorverkaufsstellen und bei den Online-Ticketanbietern. \n  \n  \n 
URL:https://www.stadthallesigmaringen.de/veranstaltung/sebastian-reich-amanda-purer-zufall/
CATEGORIES:öffentliche Veranstaltungen
ATTACH;FMTTYPE=image/jpeg:https://www.stadthallesigmaringen.de/wp-content/uploads/2025/02/Unbenannt-1-scaled.jpg
END:VEVENT
BEGIN:VEVENT
DTSTART;TZID=Europe/Berlin:20261123T170000
DTEND;TZID=Europe/Berlin:20261123T200000
DTSTAMP:20260420T163107
CREATED:20250916T094817Z
LAST-MODIFIED:20250916T094817Z
UID:10000135-1795453200-1795464000@www.stadthallesigmaringen.de
SUMMARY:Geschlossene Veranstaltung
DESCRIPTION:Geschlossene Veranstaltung\, leider kein öffentlicher Einlass möglich.
URL:https://www.stadthallesigmaringen.de/veranstaltung/geschlossene-veranstaltung-57/
CATEGORIES:geschlossene Veranstaltungen
ATTACH;FMTTYPE=image/jpeg:https://www.stadthallesigmaringen.de/wp-content/uploads/2024/11/00-geschlossene-veranstaltung.jpg
END:VEVENT
BEGIN:VEVENT
DTSTART;VALUE=DATE:20261124
DTEND;VALUE=DATE:20261125
DTSTAMP:20260420T163107
CREATED:20251208T133023Z
LAST-MODIFIED:20251208T133023Z
UID:10000174-1795478400-1795564799@www.stadthallesigmaringen.de
SUMMARY:Geschlossene Veranstaltung
DESCRIPTION:Geschlossene Veranstaltung\, leider kein öffentlicher Einlass möglich.
URL:https://www.stadthallesigmaringen.de/veranstaltung/geschlossene-veranstaltung-30/
CATEGORIES:geschlossene Veranstaltungen
ATTACH;FMTTYPE=image/jpeg:https://www.stadthallesigmaringen.de/wp-content/uploads/2024/11/00-geschlossene-veranstaltung.jpg
END:VEVENT
BEGIN:VEVENT
DTSTART;VALUE=DATE:20261125
DTEND;VALUE=DATE:20261126
DTSTAMP:20260420T163107
CREATED:20251208T133046Z
LAST-MODIFIED:20251208T133046Z
UID:10000175-1795564800-1795651199@www.stadthallesigmaringen.de
SUMMARY:Geschlossene Veranstaltung
DESCRIPTION:Geschlossene Veranstaltung\, leider kein öffentlicher Einlass möglich.
URL:https://www.stadthallesigmaringen.de/veranstaltung/geschlossene-veranstaltung-31/
CATEGORIES:geschlossene Veranstaltungen
ATTACH;FMTTYPE=image/jpeg:https://www.stadthallesigmaringen.de/wp-content/uploads/2024/11/00-geschlossene-veranstaltung.jpg
END:VEVENT
BEGIN:VEVENT
DTSTART;TZID=Europe/Berlin:20261127T200000
DTEND;TZID=Europe/Berlin:20261127T220000
DTSTAMP:20260420T163107
CREATED:20251127T094643Z
LAST-MODIFIED:20251127T094758Z
UID:10000168-1795809600-1795816800@www.stadthallesigmaringen.de
SUMMARY:ABBA - The Concert - performed by ABBAMUSIC
DESCRIPTION:Jetzt Tickets bestellen!\n\nNach erfolgreicher Europa-Tour erneut auf Tournee durch Deutschland … Mehr als nur ein Tribute! \nEine der europaweit erfolgreichsten ABBA-Tribute-Shows tourt erneut durch Deutschland – und erweckt das legendäre ABBA-Konzert von 1979 aus der Londoner Wembley-Arena live auf den Bühnen der Republik zu altem Glanz und neuem Leben. Die italienische Kultband ABBAMUSIC und das Team von „ABBA – The Concert“ bieten ein Live-Erlebnis\, in der Glitzer\, Glamour und die unsterblichen Songs von ABBA in einem unvergesslichen Live-Erlebnis neu entfacht werden. \nOb im Film oder Musical\, ob auf TikTok oder im Rahmen des alljährlichen ESC: das ABBA-Fieber ist auch nach bald fünfzig Jahren unverwüstlich und heizt sich beständig neu auf! Mit unvergesslichen Hits wie „Waterloo“\, „Dancing Queen“\, „Mamma Mia“ oder „Super Trouper“ hat das legendäre schwedische Quartett Musikgeschichte geschrieben\, die bis heute fortlebt. Agnetha Fältskog\, Björn Ulvaeus\, Benny Andersson und Anni-Frid Lyngstad prägten zeitlose Hits\, die noch heute mehrere Generationen von jung bis alt\, textsicher mitsingen können. \n„ABBA – The Concert“ bringt diesen Generationen-verbindende Gefühle zurück: Glitzernde Original-Outfits\, ikonische Plateauschuhe\, authentische Choreografien und eine Bühnenpräsenz\, die das Publikum von den ersten Takten an in den Bann zieht. Angela Castellani\, Ludovico Banali\, Eduardo Mezzogori und Irene Pertile verkörpern Agnetha\, Björn\, Benny und Anni-Frid in einem wahren Hit-Feuerwerk\, das rund ein Jahrzehnt Musikgeschichte umfasst. Jeder Song wird live performt\, unterstützt durch aufwändiges und authentisches Licht- und Videodesign\, mit den Originalarrangements aus London 1979. \n„ABBA – The Concert“ ist mehr als nur eine Tribute-Show – es ist eine Zeitreise\, die mitten ins Herz des legendären Wembley-Konzerts von 1979 führt. Die Live-Show bringt nicht nur die Hits\, sondern auch dieses einzigartige Konzerterlebnis zurück\, bei dem das authentische Gefühl eines echten ABBA-Auftritts zu neuem Leben erwacht. Eine Magie\, wie sie einst das Quartett versprühte\, dargeboten mit einer Perfektion und Leidenschaft\, die ihresgleichen sucht. \nAngela Castellani ist auf der Bühne Agnetha. Ansonsten ist die mit „cum laude“ ausgezeichnete Konservatoriums-Absolventin weltweit als Sängerin\, Songwriterin und Gesangstrainerin geschätzt und gefragt. Irene Pertile\, Frida\, arbeitet seit über zehn Jahren mit Angela zusammen. Auch sie war und ist als Studio-Sängerin und an diversen italienischen Musiktheatern erfolgreich. Als Bjoern an der Gitarre überzeugt Ludovico Banali. Er spielt seit seinem elftem Lebensjahr Gitarre und perfektionierte sein Können am Konservatorium von Mantua. Piano und Keyboards erklingen unter den geschickten Händen und dem unermüdlichen Lächeln von Eduardo Mezzogori alias Benny. Unterstützt wird das Quartett von professionellen Backing-Vocals sowie Stefano Zanon am Schlagzeug und Giovanni Antonio Scarabel am Bass. \nVon der Presse gefeiert und von Fans geliebt\, sorgt „ABBA – The Concert“ seit Jahren europaweit für eine elektrisierende Atmosphäre\, die das Publikum zum Mitsingen\, Mittanzen und Feiern einlädt. Die Show ist eine Hommage an die legendäre Band sowie an die Zeit\, als ABBA die Welt eroberte – und sie hinterlässt bei Zuschauerinnen und Zuschauern von jung bis alt ein strahlendes Lächeln und lebenslange Erinnerungen. \nwww.abbatheconcert.de \n  \n 
URL:https://www.stadthallesigmaringen.de/veranstaltung/abba-the-concert-performed-by-abbamusic/
CATEGORIES:öffentliche Veranstaltungen
ATTACH;FMTTYPE=image/jpeg:https://www.stadthallesigmaringen.de/wp-content/uploads/2025/11/Unbenannt-1-1.jpg
END:VEVENT
END:VCALENDAR